BEGIN:VCALENDAR
VERSION:2.0
CREATED:20260421T214357Z
PRODID:-//PJT Partners Inc./Equisolve Calendar v1.0//EN
METHOD:PUBLISH
BEGIN:VEVENT
UID:db4be0ab9380f2f4cae2d729fd00e744
DTSTAMP:20260422T123215Z
DTSTART:20260428T123000Z
DTEND:20260428T133000Z
SUMMARY:First Quarter 2026 Earnings Conference Call
DESCRIPTION:First Quarter 2026 Earnings Conference Call\nDate: Apr 28\, 2026 8:30 am EDT\nWebcast: https://event.on24.com/wcc/r/5307489/A0B2D5F57452ABAC422426695FB876DB
END:VEVENT
END:VCALENDAR
